Workbook

Sheet Data Entry
Q1: Quality Control Reject Analysis
A2: Farm | B2: Block | C2: Planting Date | D2: Harvesting Date | E2: Variety | F2: Area (ha) | G2: No of Trees | H2: Tree Age (years) | I2: Budgetted Production (tons/ha) | J2: Budgetted Yield (kg) | K2: Total Pick (kg) | L2: Grade 1 (kg) | M2: Grade 2 (kg) | N2: Grade 3 (kg) | O2: Small Fruit (kg) | P2: QC Reject (kg) | Q2: Sucking Pests (kg) | R2: FCM (kg) | S2: Scale (kg) | T2: Thrips (kg) | U2: Caterpillar (kg) | V2: Fungal Disease (kg) | W2: Rodent (kg) | X2: Sunburn (kg) | Y2: Windburn (kg) | Z2: Mechanical Damage (kg) | AA2: Ground fruit (kg) | AB2: Deformed Fruit (kg)
B3: 1 | E3: Hass
B4: 2 | E4: Pinkerton
B5: 3 | E5: Carmen
B6: 4 | E6: Fuete

Sheet Data Analysis
K1: Quality Control Reject Analysis
A2: Farm | B2: Block | C2: Total Pick (kg) | D2: Yield (tons/ha) | E2: Yield (kg/tree) | F2: Grade 1 % | G2: Grade 2 % | H2: Grade 3 % | I2: Small Fruit % | J2: QC Reject % | K2: Sucking Pests % | L2: FCM % | M2: Scale % | N2: Thrips % | O2: Caterpillar % | P2: Fungal Disease % | Q2: Rodent % | R2: Sunburn % | S2: Windburn % | T2: Mechanical Damage % | U2: Ground fruit % | V2: Deformed Fruit %
A3: =+'Data Entry'!A3 -> 0 | B3: =+'Data Entry'!B3 -> 1 | C3: =+'Data Entry'!K3 -> 0 | D3: =+(C3/'Data Entry'!F3) -> #DIV/0! | E3: =+('Data Analysis'!C3/'Data Entry'!G3) -> #DIV/0! | F3: =+('Data Entry'!L3/'Data Entry'!K3) -> #DIV/0! | G3: =+('Data Entry'!M3/'Data Entry'!L3) -> #DIV/0! | H3: =+('Data Entry'!N3/'Data Entry'!M3) -> #DIV/0! | I3: =+('Data Entry'!O3/'Data Entry'!N3) -> #DIV/0! | J3: =+('Data Entry'!P3/'Data Entry'!O3) -> #DIV/0! | K3: =+('Data Entry'!Q3/'Data Entry'!P3) -> #DIV/0! | L3: =+('Data Entry'!R3/'Data Entry'!Q3) -> #DIV/0! | M3: =+('Data Entry'!S3/'Data Entry'!R3) -> #DIV/0! | ... V3: =+('Data Entry'!AB3/'Data Entry'!AA3) -> #DIV/0!
A4: =+'Data Entry'!A4 -> 0 | B4: =+'Data Entry'!B4 -> 2 | C4: =+'Data Entry'!K4 -> 0 | D4: =+(C4/'Data Entry'!F4) -> #DIV/0! | E4: =+('Data Analysis'!C4/'Data Entry'!G4) -> #DIV/0! | F4: =+('Data Entry'!L4/'Data Entry'!K4) -> #DIV/0! | G4: =+('Data Entry'!M4/'Data Entry'!L4) -> #DIV/0! | H4: =+('Data Entry'!N4/'Data Entry'!M4) -> #DIV/0! | I4: =+('Data Entry'!O4/'Data Entry'!N4) -> #DIV/0! | J4: =+('Data Entry'!P4/'Data Entry'!O4) -> #DIV/0! | K4: =+('Data Entry'!Q4/'Data Entry'!P4) -> #DIV/0! | L4: =+('Data Entry'!R4/'Data Entry'!Q4) -> #DIV/0! | M4: =+('Data Entry'!S4/'Data Entry'!R4) -> #DIV/0! | ... V4: =+('Data Entry'!AB4/'Data Entry'!AA4) -> #DIV/0!
A5: =+'Data Entry'!A5 -> 0 | B5: =+'Data Entry'!B5 -> 3 | C5: =+'Data Entry'!K5 -> 0 | D5: =+(C5/'Data Entry'!F5) -> #DIV/0! | E5: =+('Data Analysis'!C5/'Data Entry'!G5) -> #DIV/0! | F5: =+('Data Entry'!L5/'Data Entry'!K5) -> #DIV/0! | G5: =+('Data Entry'!M5/'Data Entry'!L5) -> #DIV/0! | H5: =+('Data Entry'!N5/'Data Entry'!M5) -> #DIV/0! | I5: =+('Data Entry'!O5/'Data Entry'!N5) -> #DIV/0! | J5: =+('Data Entry'!P5/'Data Entry'!O5) -> #DIV/0! | K5: =+('Data Entry'!Q5/'Data Entry'!P5) -> #DIV/0! | L5: =+('Data Entry'!R5/'Data Entry'!Q5) -> #DIV/0! | M5: =+('Data Entry'!S5/'Data Entry'!R5) -> #DIV/0! | ... V5: =+('Data Entry'!AB5/'Data Entry'!AA5) -> #DIV/0!
A6: =+'Data Entry'!A6 -> 0 | B6: =+'Data Entry'!B6 -> 4 | C6: =+'Data Entry'!K6 -> 0 | D6: =+(C6/'Data Entry'!F6) -> #DIV/0! | E6: =+('Data Analysis'!C6/'Data Entry'!G6) -> #DIV/0! | F6: =+('Data Entry'!L6/'Data Entry'!K6) -> #DIV/0! | G6: =+('Data Entry'!M6/'Data Entry'!L6) -> #DIV/0! | H6: =+('Data Entry'!N6/'Data Entry'!M6) -> #DIV/0! | I6: =+('Data Entry'!O6/'Data Entry'!N6) -> #DIV/0! | J6: =+('Data Entry'!P6/'Data Entry'!O6) -> #DIV/0! | K6: =+('Data Entry'!Q6/'Data Entry'!P6) -> #DIV/0! | L6: =+('Data Entry'!R6/'Data Entry'!Q6) -> #DIV/0! | M6: =+('Data Entry'!S6/'Data Entry'!R6) -> #DIV/0! | ... V6: =+('Data Entry'!AB6/'Data Entry'!AA6) -> #DIV/0!
